BEGIN:VCALENDAR
VERSION:2.0
PRODID:-//Plone.org//NONSGML plone.app.event//EN
X-WR-TIMEZONE:Europe/Rome
BEGIN:VEVENT
SUMMARY:Accesso agli atti
DTSTART;TZID=Etc/GMT-0;VALUE=DATE-TIME:20150611T090000
DTEND;TZID=Etc/GMT-0;VALUE=DATE-TIME:20150611T130000
DTSTAMP;VALUE=DATE-TIME:20260424T090237Z
UID:3aae7911f5b95bcd1769ef3f7a187a02@localhost:8080
CATEGORIES:Apertura straordinaria
CREATED;VALUE=DATE-TIME:20150430T125010Z
DESCRIPTION:ACCESSO AGLI ATTI \nApertura straordinaria dalle 09:00 a 13:00
LAST-MODIFIED;VALUE=DATE-TIME:20180528T110932Z
URL:http://www.soprintendenza.venezia.beniculturali.it/it/events/accesso-a
 gli-atti-3
END:VEVENT
END:VCALENDAR
