BEGIN:VCALENDAR
VERSION:2.0
PRODID:-//Plone.org//NONSGML plone.app.event//EN
X-WR-TIMEZONE:Europe/Rome
BEGIN:VEVENT
SUMMARY:DO.VE 2013
DTSTART;TZID=Etc/GMT-0;VALUE=DATE-TIME:20130307T160000
DTEND;TZID=Etc/GMT-0;VALUE=DATE-TIME:20130307T183000
DTSTAMP;VALUE=DATE-TIME:20260422T070809Z
UID:390d572fd0960c6466891faaf183d176@localhost:8080
ATTENDEE;CN="Arch. Renata Codello";ROLE=REQ-PARTICIPANT:Arch. Renata Codel
 lo
ATTENDEE;CN="dott. Amalia Donatella Basso";ROLE=REQ-PARTICIPANT:dott. Amal
 ia Donatella Basso
ATTENDEE;CN="dott. Marcello Moscini";ROLE=REQ-PARTICIPANT:dott. Marcello M
 oscini
CATEGORIES:Conferenze
CREATED;VALUE=DATE-TIME:20130301T114828Z
DESCRIPTION:“Donne a Venezia. Creatività-Economia-Felicità”
LAST-MODIFIED;VALUE=DATE-TIME:20180528T110928Z
URL:http://www.soprintendenza.venezia.beniculturali.it/it/events/do-ve-201
 3
END:VEVENT
END:VCALENDAR
