BEGIN:VCALENDAR
VERSION:2.0
PRODID:-//Plone.org//NONSGML plone.app.event//EN
X-WR-TIMEZONE:Europe/Rome
BEGIN:VEVENT
SUMMARY:IX Salone dei beni e delle attività culturali
DTSTART;TZID=Etc/GMT-1;VALUE=DATE-TIME:20051202T093000
DTEND;TZID=Etc/GMT-1;VALUE=DATE-TIME:20051204T063000
DTSTAMP;VALUE=DATE-TIME:20260421T072322Z
UID:337ea27e2ceaaaede8bf889ec77c1976@localhost:8080
CATEGORIES:Meeting
CREATED;VALUE=DATE-TIME:20051130T132436Z
DESCRIPTION:IX Salone dei Beni e delle Attività Culturali a Venezia
LAST-MODIFIED;VALUE=DATE-TIME:20180528T111206Z
URL:http://www.soprintendenza.venezia.beniculturali.it/it/mostre/salonebbc
 05
END:VEVENT
END:VCALENDAR
